BEGIN:VCALENDAR
VERSION:2.0
PRODID:iCalendar-Evo
X-WR-TIMEZONE:US/Eastern
BEGIN:VEVENT
DTSTAMP:20260423THI1439Z
URL:https://www.seymourct.org/events/12719/
DTSTART;TZID=US/Eastern:20260421T060000
DTEND;TZID=US/Eastern:20260421T200000
SUMMARY:Town Referendum Vote 
DESCRIPTION:Town and Board of Education budget vote.  Everyone votes at the Community Center for the referendum  
LOCATION:Community Center at 20 Pine Street, Seymour, Connecticut 06483
GEO:41.391155499999996;-73.075299
STREET-ADDRESS:20 Pine Street 
EXTENDED-ADDRESS:20 Pine Street 
LOCALITY:Seymour 
REGION:Connecticut
POSTAL-CODE:06483
UID:8e3d2af6-e39b-403f-a8f4-1f429d4d2dae20260421T100000@www.seymourct.org
END:VEVENT
END:VCALENDAR